BEGIN:VCALENDAR
VERSION:2.0
PRODID:-//wp-events-plugin.com//7.2.3.1//EN
TZID:Europe/Berlin
X-WR-TIMEZONE:Europe/Berlin
BEGIN:VEVENT
UID:52@kremintec.de
DTSTART;TZID=Europe/Berlin:20240722T100000
DTEND;TZID=Europe/Berlin:20240726T170000
DTSTAMP:20240523T161316Z
URL:https://kremintec.de/events/cosplay-workshop-sternenkrieger-intergalak
 tische-kostueme-und-lichtschwerter-selber-bauen/
SUMMARY:Cosplay Workshop Sternenkrieger – Intergalaktische Kostüme und L
 ichtschwerter selber bauen
DESCRIPTION:Outfits\, die einem intergalaktischen Helden würdig wären\, s
 elber gestalten und dazu noch ein Schwert bauen\, das leuchtet und Soundef
 fekte macht?\n\nDu Dein Gewand\, fertigst Accessoires wie Taschen oder Gü
 rtel an und lötest\, schweißt und programmierst Dein Lichtschwert aus Ku
 nststoff und Elektronik mit futuristischen Sound- und Lichteffekten.\n\nDa
 s Beste daran? Du kannst den Dozent:innen allerlei Fragen zu ihrer Arbeit 
 stellen\, erfährst eine Menge über das Arbeiten mit verschiedenen Materi
 alien und gewinnst ein tolles technisches Know How.
ATTACH;FMTTYPE=image/jpeg:https://kremintec.de/wp-content/uploads/2024/04/
 kremintec-cosplay-mediothek_131023-2698-scaled.jpg
CATEGORIES:vor Ort,zdi Workshops
LOCATION:Mediothek Krefeld\, Theaterplatz 2\, Krefeld \, 47798\, Deutschlan
 d
X-APPLE-STRUCTURED-LOCATION;VALUE=URI;X-ADDRESS=Theaterplatz 2\, Krefeld \,
  47798\, Deutschland;X-APPLE-RADIUS=100;X-TITLE=Mediothek Krefeld:geo:0,0
END:VEVENT
BEGIN:VTIMEZONE
TZID:Europe/Berlin
X-LIC-LOCATION:Europe/Berlin
BEGIN:DAYLIGHT
DTSTART:20240331T030000
TZOFFSETFROM:+0100
TZOFFSETTO:+0200
TZNAME:CEST
END:DAYLIGHT
END:VTIMEZONE
END:VCALENDAR